BEGIN:VCALENDAR
VERSION:2.0
PRODID:-//hacksw/handcal//NONSGML v1.0//EN
BEGIN:VEVENT
SUMMARY:Stage Groupe Competition Poussins/Benjamins
UID:0bfaa043-33e8-4308-a02f-88724308673b
DTSTART:20251020T080000Z
DTEND:20251024T140000Z
LOCATION:CJN Complexe Sportif de l’Ile du Pont 92200 Neuilly sur seine
CATEGORIES:Sportif
STATUS:
DESCRIPTION:<p style="text-align:center;"><strong>STAGE GROUPE
 COMPETITION</strong></p>
 
 <p
 style="text-align:center;"><strong>POUSSINS / BENJAMINS /
 MINIMES</strong></p>
 
 <p><br>
 Date : Du lundi 20 octobre 2025 de 10h
 a 16h au vendredi 24 octobre 2025 inclus.<br>
           
      <br>
 Lieu : Complexe sportif du pont de Neuilly<br>
   
                  </p>
 
 <p>Tarif : 200
 euros </p>
 
 <p>Programme du stage : Footing, judo technique et
 combat, preparation physique, foot, activites
 exterieurs.</p>
 
 <p><br>
 <strong>REPAS DU MIDI INCLUS SAUF LE LUNDI,
 PENSEZ A APPORTER UN REPAS</strong></p>
URL;VALUE=URI:https://www.cjnjudoneuilly.com/evenements/2025/10/20/stage-groupe-competition-poussinsbenjamins-2292966
END:VEVENT
END:VCALENDAR
