BEGIN:VCALENDAR
VERSION:2.0
PRODID:-//hacksw/handcal//NONSGML v1.0//EN
BEGIN:VEVENT
SUMMARY:Entrainement comite 92
UID:a5f088b0-ed94-4309-aca5-9d35bf51a869
DTSTART:20260311T173000Z
DTEND:20260311T190000Z
LOCATION:Localisation Complexe sportif pont de neuilly  Neuilly sur seine
CATEGORIES:Sportif
STATUS:
DESCRIPTION:<p>Entrainement organise par le comite 92 :
 18h30-20h00</p>
URL;VALUE=URI:https://www.cjnjudoneuilly.com/evenements/2026/03/11/entrainement-comite-92-2425161
END:VEVENT
END:VCALENDAR
