BEGIN:VCALENDAR
VERSION:2.0
PRODID:-//hacksw/handcal//NONSGML v1.0//EN
BEGIN:VEVENT
SUMMARY:Coupe 92 par equipes Mixtes Poussins/es
UID:409ce797-46a3-4f24-a085-e5785fd0c037
DTSTART:20260329T103000Z
DTEND:20260329T230000Z
LOCATION:Localisation Gymnase Ambroise Pare,  140 Rue Saint Denis 92700 COLOMBES
CATEGORIES:Sportif
STATUS:
DESCRIPTION:<p style="text-align:center;"> </p>
 
 <p
 style="text-align:center;"><span
 style="font-size:18px;"><u><strong>Dimanche  29 Mars
 2026</strong></u></span></p>
 
 <p style="text-align:center;"><span
 style="font-size:18px;"><u><strong>Coupe 92 Par equipes Mixtes
 Poussins</strong></u></span></p>
 
 <p
 style="text-align:center;"> </p>
 
 <p
 style="text-align:center;"><strong>Accueil
 :12H30-12H45</strong></p>
 
 <p
 style="text-align:center;"><strong>Pesee sous la responsabilite des
 clubs</strong></p>
 
 <p style="text-align:center;"><span
 style="font-size:16px;"><strong>Categories :     Masculines
 26-30-34-38+38 kg </strong></span></p>
 
 <p
 style="text-align:center;"><span style="font-size:16px;"><strong> 
             Feminines -30-36+36 kg</strong></span></p>
 
 <p
 style="text-align:center;"><strong>Masc Poids Min :22 kg Poids Max 46
 kg</strong></p>
 
 <p style="text-align:center;"><strong>Fem :Poids
 Min: 24 kg Poids Max 42 kg</strong></p>
URL;VALUE=URI:https://www.cjnjudoneuilly.com/evenements/2026/03/29/coupe-92-par-equipes-mixtes-poussinses-2425055
END:VEVENT
END:VCALENDAR
