BEGIN:VCALENDAR
VERSION:2.0
PRODID:-//hacksw/handcal//NONSGML v1.0//EN
BEGIN:VEVENT
SUMMARY:Regroupement 92
UID:03cc5456-dff3-4fbe-8b8c-d27782e0f635
DTSTART:20260408T153000Z
DTEND:20260408T170000Z
LOCATION:CJN Complexe Sportif de l’Ile du Pont 92200 Neuilly sur seine
CATEGORIES:Sportif
STATUS:
DESCRIPTION:<p>Entrainement habituel remplace par un regroupement
 minimes du comite 92</p>
 
 <p>Programme :<br>
 <br>
 Entrainement :
 17h30-19h00</p>
URL;VALUE=URI:https://www.cjnjudoneuilly.com/evenements/2026/04/08/regroupement-92-2436707
END:VEVENT
END:VCALENDAR
