BEGIN:VCALENDAR
VERSION:2.0
PRODID:-//hacksw/handcal//NONSGML v1.0//EN
BEGIN:VEVENT
SUMMARY:Stage Competition Poussins/Benjamins
UID:0b91b82f-7b2e-400f-be10-3a973aa30933
DTSTART:20260420T073000Z
DTEND:20260424T143000Z
LOCATION:CJN Complexe Sportif de l’Ile du Pont 92200 Neuilly sur seine
CATEGORIES:Sportif
STATUS:
DESCRIPTION:<p><strong>STAGE GROUPE
 COMPETITION</strong></p>
 
 <p><strong>POUSSINS /
 BENJAMINS </strong></p>
 
 <p><br>
 Date : Du lundi 20 avril 2026 de
 9h30 a 16h30 au vendredi 24 avril 2026 inclus.<br>
           
      <br>
 Lieu : <strong>ESPACE KOENIG</strong><br>
       
              </p>
 
 <p>Tarif : 200 euros </p>
 
 <p>Programme
 du stage : Footing, judo technique et combat, preparation physique,
 foot, activites exterieurs.</p>
 
 <p><br>
 <strong>REPAS DU MIDI
 INCLUS </strong></p>
URL;VALUE=URI:https://www.cjnjudoneuilly.com/evenements/2026/04/20/stage-competition-poussinsbenjamins-2425240
END:VEVENT
END:VCALENDAR
