BEGIN:VCALENDAR
VERSION:2.0
PRODID:-//hacksw/handcal//NONSGML v1.0//EN
BEGIN:VEVENT
SUMMARY:Stage Judo/Multisports
UID:eb654377-e451-4dea-894c-d84feb9e0e1a
DTSTART:20260420T073000Z
DTEND:20260424T143000Z
LOCATION:Localisation Espace Koenig  Neuilly sur seine
CATEGORIES:Sportif
STATUS:
DESCRIPTION:<p><strong>PROGRAMME DU STAGE </strong><br
 />
  </p>
 
 <p><strong>Stage du lundi 20 avril au vendredi 24 avril
 inclus de 9h30 a 16h30</strong></p>
 
 <p><u>Le stage se deroulera a
 l'Espace Sportif Koenig<br />
 <br />
 Pour les enfants des
 categories mini-poussins / poussins et benjamins des cours
 loisirs</u><br />
 <br />
 <em>Au programme des activites : Judo /
 Sports collectifs / Badminton / Tir a l'arc / etc...</em><br />
 <br
 />
 <em>Le repas du midi est inclus</em></p>
 
 <p><em>Pique-nique
 prevu ou bien restaurant a l'hippopotamus de La
 Defense.</em></p>
 
 <p><em>Sortie Bowling</em></p>
 
 <p><em>Deplacement
 en metro et a pied</em></p>
 
 <p><em>Encadrement par les professeurs
 du CJN : Patrick et Swann </em><br />
 <br />
 <strong>A PREVOIR
 :</strong><br />
 <br />
 Kimono / Tenue de sport (basket pour
 courir) / Bouteille d'eau <br />
 <br />
 <strong>Tarif : 275€ par
 virement ou par cheque (CJN) et especes a remettre au professeur.<br
 />
 <br />
 250€ pour le deuxieme enfant et 200€ pour le
 troisieme.</strong><br />
 <br />
 <strong>Attention : nombre de
 places limite a 30 enfants, l'inscription sera validee uniquement
 avec le formulaire rempli et le reglement complet.</strong></p>
URL;VALUE=URI:https://www.cjnjudoneuilly.com/evenements/2026/04/20/stage-judomultisports-2425151
END:VEVENT
END:VCALENDAR
